BEGIN:VCALENDAR
VERSION:2.0
PRODID:-//Central Park United Neighbors (CPUN) - ECPv6.15.20//NONSGML v1.0//EN
CALSCALE:GREGORIAN
METHOD:PUBLISH
X-ORIGINAL-URL:https://centralparkunitedneighbors.com
X-WR-CALDESC:Events for Central Park United Neighbors (CPUN)
REFRESH-INTERVAL;VALUE=DURATION:PT1H
X-Robots-Tag:noindex
X-PUBLISHED-TTL:PT1H
BEGIN:VTIMEZONE
TZID:America/Denver
BEGIN:DAYLIGHT
TZOFFSETFROM:-0700
TZOFFSETTO:-0600
TZNAME:MDT
DTSTART:20220313T090000
END:DAYLIGHT
BEGIN:STANDARD
TZOFFSETFROM:-0600
TZOFFSETTO:-0700
TZNAME:MST
DTSTART:20221106T080000
END:STANDARD
BEGIN:DAYLIGHT
TZOFFSETFROM:-0700
TZOFFSETTO:-0600
TZNAME:MDT
DTSTART:20230312T090000
END:DAYLIGHT
BEGIN:STANDARD
TZOFFSETFROM:-0600
TZOFFSETTO:-0700
TZNAME:MST
DTSTART:20231105T080000
END:STANDARD
BEGIN:DAYLIGHT
TZOFFSETFROM:-0700
TZOFFSETTO:-0600
TZNAME:MDT
DTSTART:20240310T090000
END:DAYLIGHT
BEGIN:STANDARD
TZOFFSETFROM:-0600
TZOFFSETTO:-0700
TZNAME:MST
DTSTART:20241103T080000
END:STANDARD
BEGIN:DAYLIGHT
TZOFFSETFROM:-0700
TZOFFSETTO:-0600
TZNAME:MDT
DTSTART:20250309T090000
END:DAYLIGHT
BEGIN:STANDARD
TZOFFSETFROM:-0600
TZOFFSETTO:-0700
TZNAME:MST
DTSTART:20251102T080000
END:STANDARD
END:VTIMEZONE
BEGIN:VEVENT
DTSTART;TZID=America/Denver:20240406T140000
DTEND;TZID=America/Denver:20240406T150000
DTSTAMP:20260421T041148
CREATED:20240225T222325Z
LAST-MODIFIED:20240225T223729Z
UID:2955-1712412000-1712415600@centralparkunitedneighbors.com
SUMMARY:Safe Streets Committee Meeting
DESCRIPTION:The next Safe Streets Committee meeting will be an IN PERSON event at FlyteCo Tower on Saturday\, April 6\, at 2 PM. We encourage everyone to ride their bike to the meeting since FlyteCo has abundant bicycle parking! \nCPUN’s Safe Streets Committee advocates for walking\, biking\, and rolling safely throughout the neighborhood. If you cannot make a meeting\, but want to be added to the email list for upcoming meetings\, send us an email!
URL:https://centralparkunitedneighbors.com/event/safe-streets-committee-meeting-2/
LOCATION:FlyteCo Tower\, 3120 Uinta St\, Denver\, CO\, 80238\, United States
CATEGORIES:Committee Meeting
ATTACH;FMTTYPE=image/jpeg:https://centralparkunitedneighbors.com/wp-content/uploads/2023/12/safe-streets-committee.jpg
END:VEVENT
BEGIN:VEVENT
DTSTART;TZID=America/Denver:20240220T183000
DTEND;TZID=America/Denver:20240220T203000
DTSTAMP:20260421T041148
CREATED:20240108T185506Z
LAST-MODIFIED:20240219T005833Z
UID:2841-1708453800-1708461000@centralparkunitedneighbors.com
SUMMARY:Monthly Community Meeting
DESCRIPTION:Most meetings are hybrid with in person activities held at The Cube\, Master Community Association: 8371 Northfield Blvd\, Denver\, CO 80238 and online attendance capabilities using Zoom: https://us06web.zoom.us/j/85883920937 \nPlease RSVP so we can ensure you are on our email list to send you reminders about our meetings and other community events.
URL:https://centralparkunitedneighbors.com/event/meeting-2024-02/
LOCATION:The Cube\, Master Community Association\, 8371 Northfield Blvd\, Denver\, CO\, 80238\, United States
CATEGORIES:Monthly Meeting
ATTACH;FMTTYPE=image/jpeg:https://centralparkunitedneighbors.com/wp-content/uploads/2023/11/MCA-The-Cube.jpg
END:VEVENT
BEGIN:VEVENT
DTSTART;TZID=America/Denver:20240123T180000
DTEND;TZID=America/Denver:20240123T190000
DTSTAMP:20260421T041148
CREATED:20240122T150030Z
LAST-MODIFIED:20240122T150145Z
UID:2882-1706032800-1706036400@centralparkunitedneighbors.com
SUMMARY:DEI Committee Meeting
DESCRIPTION:Click here to join our Zoom Meeting.
URL:https://centralparkunitedneighbors.com/event/dei-committee-meeting/
LOCATION:CO
CATEGORIES:Committee Meeting
ATTACH;FMTTYPE=image/jpeg:https://centralparkunitedneighbors.com/wp-content/uploads/2023/12/DEI-committee.jpg
END:VEVENT
BEGIN:VEVENT
DTSTART;TZID=America/Denver:20240116T183000
DTEND;TZID=America/Denver:20240116T203000
DTSTAMP:20260421T041148
CREATED:20231204T175240Z
LAST-MODIFIED:20231211T183121Z
UID:2615-1705429800-1705437000@centralparkunitedneighbors.com
SUMMARY:Monthly Community Meeting
DESCRIPTION:Most meetings are hybrid with in person activities held at The Cube\, Master Community Association: 8371 Northfield Blvd\, Denver\, CO 80238 and online attendance capabilities using Zoom: https://denvergov-org.zoom.us/j/87050752878?pwd=dG9ZWHdsWElOVnNrZWFjUURYTXlBdz09 \nPlease RSVP so we can ensure you are on our email list to send you reminders about our meetings and other community events.
URL:https://centralparkunitedneighbors.com/event/monthly-meeting-2024-01/
LOCATION:The Cube\, Master Community Association\, 8371 Northfield Blvd\, Denver\, CO\, 80238\, United States
CATEGORIES:Monthly Meeting
ATTACH;FMTTYPE=image/jpeg:https://centralparkunitedneighbors.com/wp-content/uploads/2023/11/MCA-The-Cube.jpg
END:VEVENT
BEGIN:VEVENT
DTSTART;TZID=America/Denver:20240109T170000
DTEND;TZID=America/Denver:20240109T170000
DTSTAMP:20260421T041148
CREATED:20240108T230542Z
LAST-MODIFIED:20240108T230542Z
UID:2848-1704819600-1704819600@centralparkunitedneighbors.com
SUMMARY:Education Committee Meeting
DESCRIPTION:CPUN’s Education Committee typically holds its meetings the second Tuesday of every month at 5pm online. \nJoin Zoom Meeting\nhttps://denvergov-org.zoom.us/j/87050752878?pwd=dG9ZWHdsWElOVnNrZWFjUURYTXlBdz09 \nMeeting ID: 870 5075 2878\nPasscode: 991313\nOne tap mobile\n+17209289299\,\,87050752878# US (Denver) \nDial by your location\n+1 720 928 9299 US (Denver)\nMeeting ID: 870 5075 2878\nFind your local number: https://denvergov-org.zoom.us/u/kcFSjcIlt0
URL:https://centralparkunitedneighbors.com/event/education-committee-meeting/
LOCATION:CO
CATEGORIES:Committee Meeting
END:VEVENT
BEGIN:VEVENT
DTSTART;TZID=America/Denver:20231205T183000
DTEND;TZID=America/Denver:20231205T203000
DTSTAMP:20260421T041148
CREATED:20231130T223846Z
LAST-MODIFIED:20231204T173827Z
UID:2580-1701801000-1701808200@centralparkunitedneighbors.com
SUMMARY:Monthly Community Meeting
DESCRIPTION:Most meetings are hybrid with in person activities held at The Cube\, Master Community Association: 8371 Northfield Blvd\, Denver\, CO 80238 and online attendance capabilities using Zoom: https://denvergov-org.zoom.us/j/87050752878?pwd=dG9ZWHdsWElOVnNrZWFjUURYTXlBdz09 \nPlease RSVP so we can ensure you are on our email list to send you reminders about our meetings and other community events.
URL:https://centralparkunitedneighbors.com/event/monthly-meeting-2023-12/
LOCATION:The Cube\, Master Community Association\, 8371 Northfield Blvd\, Denver\, CO\, 80238\, United States
CATEGORIES:Monthly Meeting
ATTACH;FMTTYPE=image/jpeg:https://centralparkunitedneighbors.com/wp-content/uploads/2023/11/MCA-The-Cube.jpg
END:VEVENT
BEGIN:VEVENT
DTSTART;TZID=America/Denver:20231205T150000
DTEND;TZID=America/Denver:20231205T160000
DTSTAMP:20260421T041148
CREATED:20231204T181213Z
LAST-MODIFIED:20231204T181213Z
UID:2623-1701788400-1701792000@centralparkunitedneighbors.com
SUMMARY:Safe Streets Committee Meeting
DESCRIPTION:CPUN’s Safe Streets Committee advocates for walking\, biking\, and rolling safely throughout the neighborhood. We typically hold our meetings the first Tuesday of every other month at 3pm online. If you cannot make a meeting\, but want to be added to the email list for upcoming meetings\, send us an email! \nJoin Zoom Meeting\nhttps://denvergov-org.zoom.us/j/87050752878?pwd=dG9ZWHdsWElOVnNrZWFjUURYTXlBdz09 \nMeeting ID: 870 5075 2878\nPasscode: 991313\nOne tap mobile\n+17209289299\,\,87050752878# US (Denver) \nDial by your location\n+1 720 928 9299 US (Denver)\nMeeting ID: 870 5075 2878\nFind your local number: https://denvergov-org.zoom.us/u/kcFSjcIlt0
URL:https://centralparkunitedneighbors.com/event/safe-streets-2023-12/
LOCATION:CO
CATEGORIES:Committee Meeting
ATTACH;FMTTYPE=image/jpeg:https://centralparkunitedneighbors.com/wp-content/uploads/2023/12/safe-streets-committee.jpg
END:VEVENT
END:VCALENDAR