BEGIN:VCALENDAR
VERSION:2.0
PRODID:-//Central Park United Neighbors (CPUN) - ECPv6.15.20//NONSGML v1.0//EN
CALSCALE:GREGORIAN
METHOD:PUBLISH
X-WR-CALNAME:Central Park United Neighbors (CPUN)
X-ORIGINAL-URL:https://centralparkunitedneighbors.com
X-WR-CALDESC:Events for Central Park United Neighbors (CPUN)
REFRESH-INTERVAL;VALUE=DURATION:PT1H
X-Robots-Tag:noindex
X-PUBLISHED-TTL:PT1H
BEGIN:VTIMEZONE
TZID:America/Denver
BEGIN:DAYLIGHT
TZOFFSETFROM:-0700
TZOFFSETTO:-0600
TZNAME:MDT
DTSTART:20230312T090000
END:DAYLIGHT
BEGIN:STANDARD
TZOFFSETFROM:-0600
TZOFFSETTO:-0700
TZNAME:MST
DTSTART:20231105T080000
END:STANDARD
BEGIN:DAYLIGHT
TZOFFSETFROM:-0700
TZOFFSETTO:-0600
TZNAME:MDT
DTSTART:20240310T090000
END:DAYLIGHT
BEGIN:STANDARD
TZOFFSETFROM:-0600
TZOFFSETTO:-0700
TZNAME:MST
DTSTART:20241103T080000
END:STANDARD
BEGIN:DAYLIGHT
TZOFFSETFROM:-0700
TZOFFSETTO:-0600
TZNAME:MDT
DTSTART:20250309T090000
END:DAYLIGHT
BEGIN:STANDARD
TZOFFSETFROM:-0600
TZOFFSETTO:-0700
TZNAME:MST
DTSTART:20251102T080000
END:STANDARD
END:VTIMEZONE
BEGIN:VEVENT
DTSTART;TZID=America/Denver:20241102T170000
DTEND;TZID=America/Denver:20241102T180000
DTSTAMP:20260421T100848
CREATED:20241028T222110Z
LAST-MODIFIED:20241028T222110Z
UID:3606-1730566800-1730570400@centralparkunitedneighbors.com
SUMMARY:DEI Committee - Field Trip!
DESCRIPTION:Instead of our regular November DEI committee meeting\, we’ll be taking a field trip to the History Colorado Center to view and discuss its exhibit on the Sand Creek Massacre and its legacy in Colorado. \nWe’ll meet Saturday\, November 2\, at 5 PM at the entrance of the History Colorado Center (1200 N Broadway). Admission is FREE as part of Denver Arts Week’s Free Night at the Museums. \nPlease RSVP to let us know you’re coming\, and you’ll need to book your free ticket in advance via this link: https://www.historycolorado.org/events-experiences#event=night-at-the-museum;instance=20241102170000?popup=1&lang=en-US
URL:https://centralparkunitedneighbors.com/event/dei-committee-field-trip/
CATEGORIES:Committee Meeting
ATTACH;FMTTYPE=image/png:https://centralparkunitedneighbors.com/wp-content/uploads/2024/05/CPUN-event-committee-DEI.png
END:VEVENT
END:VCALENDAR